BEGIN:VCALENDAR
VERSION:2.0
PRODID:-//Melanie O&#039;Reilly - ECPv6.14.2//NONSGML v1.0//EN
CALSCALE:GREGORIAN
METHOD:PUBLISH
X-ORIGINAL-URL:https://melanieoreilly.com
X-WR-CALDESC:Events for Melanie O&#039;Reilly
REFRESH-INTERVAL;VALUE=DURATION:PT1H
X-Robots-Tag:noindex
X-PUBLISHED-TTL:PT1H
BEGIN:VTIMEZONE
TZID:UTC
BEGIN:STANDARD
TZOFFSETFROM:+0000
TZOFFSETTO:+0000
TZNAME:UTC
DTSTART:20250101T000000
END:STANDARD
END:VTIMEZONE
BEGIN:VEVENT
DTSTART;TZID=UTC:20250613T140000
DTEND;TZID=UTC:20250613T150000
DTSTAMP:20260422T005414
CREATED:20250612T003917Z
LAST-MODIFIED:20250612T003917Z
UID:3017-1749823200-1749826800@melanieoreilly.com
SUMMARY:Destination Francophonie- The Norman Way /Rosslare Harbour Festival
DESCRIPTION:Melanie features in the TV5 Monde series “Destination Francophonie -The Norman Way” as part of the Rosslare Harbour Festival film screenings. This Friday 13th June at 2pm: supported by the Embassy of France in Ireland and the Wexford Normandy Cultural Association at The Bank Rosslare Harbour Community Centre. This programme highlights the diverse aspects of the Francophonie in Ireland and also explores the legacy of the Normans in Wexford through the lens of youth and education.  Melanie was delighted to be a part of this series\, and had the opportunity to cycle along the beautiful Norman Way/ La Route Normande while being interviewed by the  Destination Francophonie team . In French\, with English subtitles
URL:https://melanieoreilly.com/event/destination-francophonie-the-norman-way-rosslare-harbour-festival/
CATEGORIES:TV
ATTACH;FMTTYPE=image/jpeg:https://melanieoreilly.com/wp-content/uploads/2025/06/CopyDe.stination-Francophonie.Lamport-Tower.jpg
END:VEVENT
END:VCALENDAR